BEGIN:VCALENDAR
VERSION:2.0
PRODID:SchoolNow
CALSCALE:GREGORIAN
BEGIN:VEVENT
UID:39590952-a9d5-11f0-ac86-0a58a9feac02
DTSTAMP:20251015T144250Z
SUMMARY:PTO MEETING!
URL;VALUE=URI:https://www.op97.org/irving/calendar/8724189/pto-meeting
DTSTART:20261211T010000Z
DTEND:20261211T023000Z
END:VEVENT
END:VCALENDAR
