BEGIN:VCALENDAR
VERSION:2.0
PRODID:SchoolNow
CALSCALE:GREGORIAN
BEGIN:VEVENT
UID:39590a24-a9d5-11f0-a8d8-0a58a9feac02
DTSTAMP:20251015T144250Z
SUMMARY:PTO MEETING!
URL;VALUE=URI:https://www.op97.org/irving/calendar/8724190/pto-meeting
DTSTART:20270115T010000Z
DTEND:20270115T023000Z
END:VEVENT
END:VCALENDAR
