BEGIN:VCALENDAR
VERSION:2.0
PRODID:SchoolNow
CALSCALE:GREGORIAN
BEGIN:VEVENT
UID:39590bd2-a9d5-11f0-957e-0a58a9feac02
DTSTAMP:20251015T144250Z
SUMMARY:PTO MEETING!
URL;VALUE=URI:https://www.op97.org/irving/calendar/8724192/pto-meeting
DTSTART:20270312T010000Z
DTEND:20270312T023000Z
END:VEVENT
END:VCALENDAR
