BEGIN:VCALENDAR
VERSION:2.0
PRODID:SchoolNow
CALSCALE:GREGORIAN
BEGIN:VEVENT
UID:39590e3e-a9d5-11f0-96bc-0a58a9feac02
DTSTAMP:20251015T144250Z
SUMMARY:PTO MEETING!
URL;VALUE=URI:https://www.op97.org/irving/calendar/8724194/pto-meeting
DTSTART:20270514T000000Z
DTEND:20270514T013000Z
END:VEVENT
END:VCALENDAR
