BEGIN:VCALENDAR
VERSION:2.0
PRODID:SchoolNow
CALSCALE:GREGORIAN
BEGIN:VEVENT
UID:3b06ae08-1f6c-11e9-93dc-12518cfb1252
DTSTAMP:20190124T000851Z
SUMMARY:Graduation Rehearsal
URL;VALUE=URI:https://www.op97.org/julian/calendar/1935012/graduation-rehea
 rsal
DTSTART:20190529T170000Z
DTEND:20190529T183000Z
END:VEVENT
END:VCALENDAR
