BEGIN:VCALENDAR
VERSION:2.0
PRODID:SchoolNow
CALSCALE:GREGORIAN
BEGIN:VEVENT
UID:58962460-6cb0-11f0-9c51-0affc42fa2c1
DTSTAMP:20251216T201014Z
SUMMARY:CAST Studio Performance
URL;VALUE=URI:https://www.op97.org/julian/calendar/8455859/cast-studio-perf
 ormance
DTSTART:20270223T013000Z
DTEND:20270223T033000Z
END:VEVENT
END:VCALENDAR
