BEGIN:VCALENDAR
VERSION:2.0
PRODID:SchoolNow
CALSCALE:GREGORIAN
BEGIN:VEVENT
UID:2f71e32c-8398-11f0-bd76-0a58a9feac02
DTSTAMP:20251216T201015Z
SUMMARY:Dr. Percy Julian's birthday!!
URL;VALUE=URI:https://www.op97.org/julian/calendar/8551296/dr-percy-julians
 -birthday
DTSTART;VALUE=DATE:20270411
DTEND;VALUE=DATE:20270412
END:VEVENT
END:VCALENDAR
