BEGIN:VCALENDAR
VERSION:2.0
PRODID:SchoolNow
CALSCALE:GREGORIAN
BEGIN:VEVENT
UID:36dd5eb6-9ce3-11f0-b226-0affc713f55d
DTSTAMP:20251216T201015Z
SUMMARY:Calculation Corner
LOCATION:C205
URL;VALUE=URI:https://www.op97.org/julian/calendar/8674919/calculation-corn
 er
DTSTART:20261231T140000Z
DTEND:20261231T145000Z
END:VEVENT
END:VCALENDAR
