BEGIN:VCALENDAR
VERSION:2.0
PRODID:SchoolNow
CALSCALE:GREGORIAN
BEGIN:VEVENT
UID:374e5bca-9ce3-11f0-84f4-0affc713f55d
DTSTAMP:20251216T201015Z
SUMMARY:Calculation Corner
LOCATION:C205
URL;VALUE=URI:https://www.op97.org/julian/calendar/8674929/calculation-corn
 er
DTSTART:20270204T140000Z
DTEND:20270204T145000Z
END:VEVENT
END:VCALENDAR
