BEGIN:VCALENDAR
VERSION:2.0
PRODID:SchoolNow
CALSCALE:GREGORIAN
BEGIN:VEVENT
UID:374e5f26-9ce3-11f0-9b9c-0affc713f55d
DTSTAMP:20251216T201015Z
SUMMARY:Calculation Corner
LOCATION:C205
URL;VALUE=URI:https://www.op97.org/julian/calendar/8674932/calculation-corn
 er
DTSTART:20270216T140000Z
DTEND:20270216T145000Z
END:VEVENT
END:VCALENDAR
