BEGIN:VCALENDAR
VERSION:2.0
PRODID:SchoolNow
CALSCALE:GREGORIAN
BEGIN:VEVENT
UID:374e6566-9ce3-11f0-aa0b-0affc713f55d
DTSTAMP:20251216T201015Z
SUMMARY:Calculation Corner
LOCATION:C205
URL;VALUE=URI:https://www.op97.org/julian/calendar/8674939/calculation-corn
 er
DTSTART:20270311T140000Z
DTEND:20270311T145000Z
END:VEVENT
END:VCALENDAR
