BEGIN:VCALENDAR
VERSION:2.0
PRODID:SchoolNow
CALSCALE:GREGORIAN
BEGIN:VEVENT
UID:374e6ed0-9ce3-11f0-94d0-0affc713f55d
DTSTAMP:20251216T201015Z
SUMMARY:Calculation Corner
LOCATION:C205
URL;VALUE=URI:https://www.op97.org/julian/calendar/8674950/calculation-corn
 er
DTSTART:20270420T130000Z
DTEND:20270420T135000Z
END:VEVENT
END:VCALENDAR
