BEGIN:VCALENDAR
VERSION:2.0
PRODID:SchoolNow
CALSCALE:GREGORIAN
BEGIN:VEVENT
UID:374e78c6-9ce3-11f0-996e-0affc713f55d
DTSTAMP:20251216T201015Z
SUMMARY:Calculation Corner
LOCATION:C205
URL;VALUE=URI:https://www.op97.org/julian/calendar/8674960/calculation-corn
 er
DTSTART:20270525T130000Z
DTEND:20270525T135000Z
END:VEVENT
END:VCALENDAR
