BEGIN:VCALENDAR
VERSION:2.0
PRODID:SchoolNow
CALSCALE:GREGORIAN
BEGIN:VEVENT
UID:33faab3e-9d49-11f0-9a75-0ec6892a9edd
DTSTAMP:20251216T201016Z
SUMMARY:History Club
URL;VALUE=URI:https://www.op97.org/julian/calendar/8676517/history-club
DTSTART:20261210T213000Z
DTEND:20261210T223000Z
END:VEVENT
END:VCALENDAR
