BEGIN:VCALENDAR
VERSION:2.0
PRODID:SchoolNow
CALSCALE:GREGORIAN
BEGIN:VEVENT
UID:33fab39a-9d49-11f0-9059-0ec6892a9edd
DTSTAMP:20251216T201016Z
SUMMARY:History Club
URL;VALUE=URI:https://www.op97.org/julian/calendar/8676526/history-club
DTSTART:20270211T213000Z
DTEND:20270211T223000Z
END:VEVENT
END:VCALENDAR
