BEGIN:VCALENDAR
VERSION:2.0
PRODID:SchoolNow
CALSCALE:GREGORIAN
BEGIN:VEVENT
UID:33fabf8e-9d49-11f0-907c-0ec6892a9edd
DTSTAMP:20251216T201016Z
SUMMARY:History Club
URL;VALUE=URI:https://www.op97.org/julian/calendar/8676539/history-club
DTSTART:20270513T203000Z
DTEND:20270513T213000Z
END:VEVENT
END:VCALENDAR
