BEGIN:VCALENDAR
VERSION:2.0
PRODID:SchoolNow
CALSCALE:GREGORIAN
BEGIN:VEVENT
UID:33fac15a-9d49-11f0-ae86-0ec6892a9edd
DTSTAMP:20251216T201016Z
SUMMARY:History Club
URL;VALUE=URI:https://www.op97.org/julian/calendar/8676541/history-club
DTSTART:20270527T203000Z
DTEND:20270527T213000Z
END:VEVENT
END:VCALENDAR
