BEGIN:VCALENDAR
VERSION:2.0
PRODID:SchoolNow
CALSCALE:GREGORIAN
BEGIN:VEVENT
UID:2f5b3bb0-9d7c-11f0-98b4-0a58a9feac02
DTSTAMP:20251216T201014Z
SUMMARY:CAST Musical Workshop
URL;VALUE=URI:https://www.op97.org/julian/calendar/8677821/cast-musical-wor
 kshop
DTSTART:20270222T013000Z
DTEND:20270222T033000Z
END:VEVENT
END:VCALENDAR
