BEGIN:VCALENDAR
VERSION:2.0
PRODID:SchoolNow
CALSCALE:GREGORIAN
BEGIN:VEVENT
UID:0b970948-a079-11f0-a9af-0a58a9feac02
DTSTAMP:20251216T201015Z
SUMMARY:Calculation Corner
LOCATION:C205
URL;VALUE=URI:https://www.op97.org/julian/calendar/8691373/calculation-corn
 er
DTSTART:20270601T130000Z
DTEND:20270601T135000Z
END:VEVENT
END:VCALENDAR
