BEGIN:VCALENDAR
VERSION:2.0
PRODID:SchoolNow
CALSCALE:GREGORIAN
BEGIN:VEVENT
UID:067ff554-a0ac-11f0-83b8-0a58a9feac02
DTSTAMP:20251216T201016Z
SUMMARY:History Club
URL;VALUE=URI:https://www.op97.org/julian/calendar/8692434/history-club
DTSTART:20270603T203000Z
DTEND:20270603T213000Z
END:VEVENT
END:VCALENDAR
