BEGIN:VCALENDAR
VERSION:2.0
PRODID:SchoolNow
CALSCALE:GREGORIAN
BEGIN:VEVENT
UID:d7240b84-a474-11f0-9990-0a58a9feac02
DTSTAMP:20251216T201015Z
SUMMARY:Calculation Corner
LOCATION:C205
URL;VALUE=URI:https://www.op97.org/julian/calendar/8706012/calculation-corn
 er
DTSTART:20270608T130000Z
DTEND:20270608T135000Z
END:VEVENT
END:VCALENDAR
