BEGIN:VCALENDAR
VERSION:2.0
PRODID:SchoolNow
CALSCALE:GREGORIAN
BEGIN:VEVENT
UID:cb680abc-a540-11f0-a020-0a58a9feac02
DTSTAMP:20251216T201016Z
SUMMARY:IMPACT mentoring
LOCATION:D304
URL;VALUE=URI:https://www.op97.org/julian/calendar/8709085/impact-mentoring
DTSTART:20261224T174000Z
DTEND:20261224T185000Z
END:VEVENT
END:VCALENDAR
