BEGIN:VCALENDAR
VERSION:2.0
PRODID:SchoolNow
CALSCALE:GREGORIAN
BEGIN:VEVENT
UID:cb680d46-a540-11f0-8258-0a58a9feac02
DTSTAMP:20251216T201016Z
SUMMARY:IMPACT mentoring
LOCATION:D304
URL;VALUE=URI:https://www.op97.org/julian/calendar/8709088/impact-mentoring
DTSTART:20270114T174000Z
DTEND:20270114T185000Z
END:VEVENT
END:VCALENDAR
