BEGIN:VCALENDAR
VERSION:2.0
PRODID:SchoolNow
CALSCALE:GREGORIAN
BEGIN:VEVENT
UID:cb68143a-a540-11f0-a908-0a58a9feac02
DTSTAMP:20251216T201016Z
SUMMARY:IMPACT mentoring
LOCATION:D304
URL;VALUE=URI:https://www.op97.org/julian/calendar/8709096/impact-mentoring
DTSTART:20270311T174000Z
DTEND:20270311T185000Z
END:VEVENT
END:VCALENDAR
