BEGIN:VCALENDAR
VERSION:2.0
PRODID:SchoolNow
CALSCALE:GREGORIAN
BEGIN:VEVENT
UID:cb681ad4-a540-11f0-9333-0a58a9feac02
DTSTAMP:20251216T201016Z
SUMMARY:IMPACT mentoring
LOCATION:D304
URL;VALUE=URI:https://www.op97.org/julian/calendar/8709103/impact-mentoring
DTSTART:20270429T164000Z
DTEND:20270429T175000Z
END:VEVENT
END:VCALENDAR
