BEGIN:VCALENDAR
VERSION:2.0
PRODID:SchoolNow
CALSCALE:GREGORIAN
BEGIN:VEVENT
UID:c22ac59e-a60c-11f0-aff8-029aec92917b
DTSTAMP:20251216T201015Z
SUMMARY:Calculation Corner
LOCATION:C205
URL;VALUE=URI:https://www.op97.org/julian/calendar/8712310/calculation-corn
 er
DTSTART:20270610T130000Z
DTEND:20270610T135000Z
END:VEVENT
END:VCALENDAR
