BEGIN:VCALENDAR
VERSION:2.0
PRODID:SchoolNow
CALSCALE:GREGORIAN
BEGIN:VEVENT
UID:c2a6eba6-a60c-11f0-8b68-029aec92917b
DTSTAMP:20251216T201016Z
SUMMARY:IMPACT mentoring
LOCATION:D304
URL;VALUE=URI:https://www.op97.org/julian/calendar/8712311/impact-mentoring
DTSTART:20270610T164000Z
DTEND:20270610T175000Z
END:VEVENT
END:VCALENDAR
