BEGIN:VCALENDAR
VERSION:2.0
PRODID:SchoolNow
CALSCALE:GREGORIAN
BEGIN:VEVENT
UID:b5db0d6c-a70b-11f0-bbdc-0edc55db91f9
DTSTAMP:20251216T201016Z
SUMMARY:History Club
URL;VALUE=URI:https://www.op97.org/julian/calendar/8715778/history-club
DTSTART:20270610T203000Z
DTEND:20270610T213000Z
END:VEVENT
END:VCALENDAR
