BEGIN:VCALENDAR
VERSION:2.0
PRODID:SchoolNow
CALSCALE:GREGORIAN
BEGIN:VEVENT
UID:8e0be8ce-aa08-11f0-a1f7-02c03bc89999
DTSTAMP:20251216T201015Z
SUMMARY:Calculation Corner
LOCATION:C205
URL;VALUE=URI:https://www.op97.org/julian/calendar/8725023/calculation-corn
 er
DTSTART:20270615T130000Z
DTEND:20270615T135000Z
END:VEVENT
END:VCALENDAR
