BEGIN:VCALENDAR
VERSION:2.0
PRODID:SchoolNow
CALSCALE:GREGORIAN
BEGIN:VEVENT
UID:7948ab72-aba0-11f0-8319-0a58a9feac02
DTSTAMP:20251216T201016Z
SUMMARY:History Club
URL;VALUE=URI:https://www.op97.org/julian/calendar/8730282/history-club
DTSTART:20270617T203000Z
DTEND:20270617T213000Z
END:VEVENT
END:VCALENDAR
