BEGIN:VCALENDAR
VERSION:2.0
PRODID:SchoolNow
CALSCALE:GREGORIAN
BEGIN:VEVENT
UID:7977495a-aba0-11f0-8a0b-0a58a9feac02
DTSTAMP:20251216T201016Z
SUMMARY:IMPACT mentoring
LOCATION:D304
URL;VALUE=URI:https://www.op97.org/julian/calendar/8730283/impact-mentoring
DTSTART:20270617T164000Z
DTEND:20270617T175000Z
END:VEVENT
END:VCALENDAR
