BEGIN:VCALENDAR
VERSION:2.0
PRODID:SchoolNow
CALSCALE:GREGORIAN
BEGIN:VEVENT
UID:79d595d2-aba0-11f0-8b39-0a58a9feac02
DTSTAMP:20251216T201016Z
SUMMARY:B.O.S.S Vibes
LOCATION:B408
URL;VALUE=URI:https://www.op97.org/julian/calendar/8730348/b-o-s-s-vibes
DTSTART:20270111T140000Z
DTEND:20270111T145000Z
END:VEVENT
END:VCALENDAR
