BEGIN:VCALENDAR
VERSION:2.0
PRODID:SchoolNow
CALSCALE:GREGORIAN
BEGIN:VEVENT
UID:79d59956-aba0-11f0-9176-0a58a9feac02
DTSTAMP:20251216T201016Z
SUMMARY:B.O.S.S Vibes
LOCATION:B408
URL;VALUE=URI:https://www.op97.org/julian/calendar/8730352/b-o-s-s-vibes
DTSTART:20270208T140000Z
DTEND:20270208T145000Z
END:VEVENT
END:VCALENDAR
