BEGIN:VCALENDAR
VERSION:2.0
PRODID:SchoolNow
CALSCALE:GREGORIAN
BEGIN:VEVENT
UID:7a9eff8a-aeb6-11f0-b262-02818349aeed
DTSTAMP:20251216T201016Z
SUMMARY:B.O.S.S Vibes
LOCATION:B408
URL;VALUE=URI:https://www.op97.org/julian/calendar/8739827/b-o-s-s-vibes
DTSTART:20270621T130000Z
DTEND:20270621T135000Z
END:VEVENT
END:VCALENDAR
