BEGIN:VCALENDAR
VERSION:2.0
PRODID:SchoolNow
CALSCALE:GREGORIAN
BEGIN:VEVENT
UID:6f4678a8-af82-11f0-ab18-0a58a9feac02
DTSTAMP:20251216T201015Z
SUMMARY:Calculation Corner
LOCATION:C205
URL;VALUE=URI:https://www.op97.org/julian/calendar/8743229/calculation-corn
 er
DTSTART:20270622T130000Z
DTEND:20270622T135000Z
END:VEVENT
END:VCALENDAR
