BEGIN:VCALENDAR
VERSION:2.0
PRODID:SchoolNow
CALSCALE:GREGORIAN
BEGIN:VEVENT
UID:62ff8c02-b04e-11f0-afea-0a58a9feac02
DTSTAMP:20251216T201015Z
SUMMARY:Choir Concert
URL;VALUE=URI:https://www.op97.org/julian/calendar/8745449/choir-concert
DTSTART:20261219T013000Z
DTEND:20261219T033000Z
END:VEVENT
END:VCALENDAR
