BEGIN:VCALENDAR
VERSION:2.0
PRODID:SchoolNow
CALSCALE:GREGORIAN
BEGIN:VEVENT
UID:59300356-b11a-11f0-bb5c-02039a906aa3
DTSTAMP:20251216T201015Z
SUMMARY:Calculation Corner
LOCATION:C205
URL;VALUE=URI:https://www.op97.org/julian/calendar/8748287/calculation-corn
 er
DTSTART:20270624T130000Z
DTEND:20270624T135000Z
END:VEVENT
END:VCALENDAR
