BEGIN:VCALENDAR
VERSION:2.0
PRODID:SchoolNow
CALSCALE:GREGORIAN
BEGIN:VEVENT
UID:594ebd46-b11a-11f0-88e2-02039a906aa3
DTSTAMP:20251216T201016Z
SUMMARY:IMPACT mentoring
LOCATION:D304
URL;VALUE=URI:https://www.op97.org/julian/calendar/8748288/impact-mentoring
DTSTART:20270624T164000Z
DTEND:20270624T175000Z
END:VEVENT
END:VCALENDAR
