BEGIN:VCALENDAR
VERSION:2.0
PRODID:SchoolNow
CALSCALE:GREGORIAN
BEGIN:VEVENT
UID:596b84f8-b11a-11f0-a719-02039a906aa3
DTSTAMP:20251216T201016Z
SUMMARY:History Club
URL;VALUE=URI:https://www.op97.org/julian/calendar/8748289/history-club
DTSTART:20270624T203000Z
DTEND:20270624T213000Z
END:VEVENT
END:VCALENDAR
