BEGIN:VCALENDAR
VERSION:2.0
PRODID:SchoolNow
CALSCALE:GREGORIAN
BEGIN:VEVENT
UID:24d863be-b516-11f0-bce2-0affe3fbb025
DTSTAMP:20251216T201015Z
SUMMARY:Calculation Corner
LOCATION:C205
URL;VALUE=URI:https://www.op97.org/julian/calendar/8760152/calculation-corn
 er
DTSTART:20270629T130000Z
DTEND:20270629T135000Z
END:VEVENT
END:VCALENDAR
