BEGIN:VCALENDAR
VERSION:2.0
PRODID:SchoolNow
CALSCALE:GREGORIAN
BEGIN:VEVENT
UID:10659b9c-b6ae-11f0-89db-0a58a9feac02
DTSTAMP:20251216T201015Z
SUMMARY:Calculation Corner
LOCATION:C205
URL;VALUE=URI:https://www.op97.org/julian/calendar/8765901/calculation-corn
 er
DTSTART:20270701T130000Z
DTEND:20270701T135000Z
END:VEVENT
END:VCALENDAR
