BEGIN:VCALENDAR
VERSION:2.0
PRODID:SchoolNow
CALSCALE:GREGORIAN
BEGIN:VEVENT
UID:108437fa-b6ae-11f0-87bb-0a58a9feac02
DTSTAMP:20251216T201016Z
SUMMARY:IMPACT mentoring
LOCATION:D304
URL;VALUE=URI:https://www.op97.org/julian/calendar/8765902/impact-mentoring
DTSTART:20270701T164000Z
DTEND:20270701T175000Z
END:VEVENT
END:VCALENDAR
