BEGIN:VCALENDAR
VERSION:2.0
PRODID:SchoolNow
CALSCALE:GREGORIAN
BEGIN:VEVENT
UID:10b65852-b6ae-11f0-b9ec-0a58a9feac02
DTSTAMP:20251216T201016Z
SUMMARY:History Club
URL;VALUE=URI:https://www.op97.org/julian/calendar/8765903/history-club
DTSTART:20270701T203000Z
DTEND:20270701T213000Z
END:VEVENT
END:VCALENDAR
