BEGIN:VCALENDAR
VERSION:2.0
PRODID:SchoolNow
CALSCALE:GREGORIAN
BEGIN:VEVENT
UID:e29c0e68-ba76-11f0-b51b-0a58a9feac02
DTSTAMP:20251216T201016Z
SUMMARY:B.O.S.S Vibes
LOCATION:B408
URL;VALUE=URI:https://www.op97.org/julian/calendar/8779183/b-o-s-s-vibes
DTSTART:20270705T130000Z
DTEND:20270705T135000Z
END:VEVENT
END:VCALENDAR
