BEGIN:VCALENDAR
VERSION:2.0
PRODID:SchoolNow
CALSCALE:GREGORIAN
BEGIN:VEVENT
UID:c26c4972-bca7-11f0-8dc6-0a58a9feac02
DTSTAMP:20251216T201015Z
SUMMARY:Calculation Corner
LOCATION:C205
URL;VALUE=URI:https://www.op97.org/julian/calendar/8784910/calculation-corn
 er
DTSTART:20270708T130000Z
DTEND:20270708T135000Z
END:VEVENT
END:VCALENDAR
