BEGIN:VCALENDAR
VERSION:2.0
PRODID:SchoolNow
CALSCALE:GREGORIAN
BEGIN:VEVENT
UID:bfda8c9a-bcda-11f0-b03a-0a58a9feac02
DTSTAMP:20251216T201016Z
SUMMARY:IMPACT mentoring
LOCATION:D304
URL;VALUE=URI:https://www.op97.org/julian/calendar/8785232/impact-mentoring
DTSTART:20270708T164000Z
DTEND:20270708T175000Z
END:VEVENT
END:VCALENDAR
