BEGIN:VCALENDAR
VERSION:2.0
PRODID:SchoolNow
CALSCALE:GREGORIAN
BEGIN:VEVENT
UID:bf7ee5a6-bd0d-11f0-9f8b-0a58a9feac02
DTSTAMP:20251216T201016Z
SUMMARY:History Club
URL;VALUE=URI:https://www.op97.org/julian/calendar/8785562/history-club
DTSTART:20270708T203000Z
DTEND:20270708T213000Z
END:VEVENT
END:VCALENDAR
