BEGIN:VCALENDAR
VERSION:2.0
PRODID:SchoolNow
CALSCALE:GREGORIAN
BEGIN:VEVENT
UID:9da70d10-bfd7-11f0-95b8-0e773c96c827
DTSTAMP:20251216T201016Z
SUMMARY:B.O.S.S Vibes
LOCATION:B408
URL;VALUE=URI:https://www.op97.org/julian/calendar/8791123/b-o-s-s-vibes
DTSTART:20270712T130000Z
DTEND:20270712T135000Z
END:VEVENT
END:VCALENDAR
