BEGIN:VCALENDAR
VERSION:2.0
PRODID:SchoolNow
CALSCALE:GREGORIAN
BEGIN:VEVENT
UID:911014e4-c0a3-11f0-b262-0affffed4e47
DTSTAMP:20251216T201015Z
SUMMARY:Calculation Corner
LOCATION:C205
URL;VALUE=URI:https://www.op97.org/julian/calendar/8793459/calculation-corn
 er
DTSTART:20270713T130000Z
DTEND:20270713T135000Z
END:VEVENT
END:VCALENDAR
