BEGIN:VCALENDAR
VERSION:2.0
PRODID:SchoolNow
CALSCALE:GREGORIAN
BEGIN:VEVENT
UID:7cca65b8-c23b-11f0-97c2-0e9db93a2971
DTSTAMP:20251216T201015Z
SUMMARY:Calculation Corner
LOCATION:C205
URL;VALUE=URI:https://www.op97.org/julian/calendar/8797204/calculation-corn
 er
DTSTART:20270715T130000Z
DTEND:20270715T135000Z
END:VEVENT
END:VCALENDAR
